BEGIN:VCALENDAR
VERSION:2.0
PRODID:Imitheme.com 
BEGIN:VEVENT
UID:20260423T1415191993162666
DTSTAMP;TZID=UTC:2026-04-23 14:15:19
DTSTART;TZID=America/Los_Angeles:20260423T141519
DTEND;TZID=America/Los_Angeles:20260423T141519
SUMMARY:Liderazgo ambiental consciente 
LOCATION:
DESCRIPTION:Debatiremos sobre la importancia de la educación afectiva y sexual como elemento clave para fomentar la convivencia  escolar.
URL:https://sistemacreo.com/evento/liderazgo-ambiental-consciente/
END:VEVENT
END:VCALENDAR
