BEGIN:VCALENDAR
VERSION:2.0
PRODID:Imitheme.com 
BEGIN:VEVENT
UID:20260423T141826103584850
DTSTAMP;TZID=UTC:2026-04-23 14:18:26
DTSTART;TZID=America/Los_Angeles:20260423T141826
DTEND;TZID=America/Los_Angeles:20260423T141826
SUMMARY:Webinar: ¿Cómo enfrentar los retos de la escuela católica a partir de un curriculum evangelizador?
LOCATION:
DESCRIPTION:     Jueves  6     - 16:00hs México Evento 100% virtual.            
URL:https://sistemacreo.com/evento/webinar-como-enfrentar-los-retos-de-la-escuela-catolica-a-partir-de-un-curriculum-evangelizador/
END:VEVENT
END:VCALENDAR
