BEGIN:VCALENDAR
VERSION:2.0
PRODID:Imitheme.com 
BEGIN:VEVENT
UID:20260423T135007211853392
DTSTAMP;TZID=UTC:2026-04-23 13:50:07
DTSTART;TZID=America/Los_Angeles:20260423T135007
DTEND;TZID=America/Los_Angeles:20260423T135007
SUMMARY:Webinar: Ayuda... Tengo un adolescente en casa
LOCATION:
DESCRIPTION: ¿Tienes un adolescente en casa? No estás solo. Únete al Webinar de Familias Brillantes  y descubre estrategias para una convivencia armoniosa.   Miércoles 12     - 18:00hs Guatemala Evento 100% virtual.            
URL:https://sistemacreo.com/evento/webinar-ayuda-tengo-un-adolescente-en-casa/
END:VEVENT
END:VCALENDAR
