BEGIN:VCALENDAR
VERSION:2.0
PRODID:Imitheme.com 
BEGIN:VEVENT
UID:20260423T14152588841224
DTSTAMP;TZID=UTC:2026-04-23 14:15:25
DTSTART;TZID=America/Los_Angeles:20260423T141525
DTEND;TZID=America/Los_Angeles:20260423T141525
SUMMARY:Webinar: La inteligencia espiritual como contenido innovador
LOCATION:
DESCRIPTION:Debatiremos sobre la importancia de la educación afectiva y sexual como elemento clave para fomentar la convivencia  escolar.
URL:https://sistemacreo.com/evento/la-inteligencia-espiritual-como-contenido-innovador/
END:VEVENT
END:VCALENDAR
