BEGIN:VCALENDAR
VERSION:2.0
PRODID:Imitheme.com 
BEGIN:VEVENT
UID:20260423T1225011423234505
DTSTAMP;TZID=UTC:2026-04-23 12:25:01
DTSTART;TZID=America/Los_Angeles:20260423T122501
DTEND;TZID=America/Los_Angeles:20260423T122501
SUMMARY:Webinar: La educación emocional como estrategia de prevención del bulling y el acoso escolar
LOCATION:
DESCRIPTION:Debatiremos sobre la importancia de la educación afectiva y sexual como elemento clave para fomentar la convivencia  escolar.
URL:https://sistemacreo.com/evento/webinar-alfabetizacion-y-dificultades-en-la-lectura/
END:VEVENT
END:VCALENDAR
