BEGIN:VCALENDAR
VERSION:2.0
PRODID:Imitheme.com 
BEGIN:VEVENT
UID:20260423T12224123293605
DTSTAMP;TZID=UTC:2026-04-23 12:22:41
DTSTART;TZID=America/Los_Angeles:20260423T122241
DTEND;TZID=America/Los_Angeles:20260423T122241
SUMMARY:Webinar: Cómo abordar valores en el aula
LOCATION:
DESCRIPTION:Debatiremos sobre la importancia de la educación afectiva y sexual como elemento clave para fomentar la convivencia  escolar.
URL:https://sistemacreo.com/evento/webinar-como-abordar-valores-en-el-aula/
END:VEVENT
END:VCALENDAR
