BEGIN:VCALENDAR
VERSION:2.0
PRODID:Imitheme.com 
BEGIN:VEVENT
UID:20260423T122521426657083
DTSTAMP;TZID=UTC:2026-04-23 12:25:21
DTSTART;TZID=America/Los_Angeles:20260423T122521
DTEND;TZID=America/Los_Angeles:20260423T122521
SUMMARY:Webinar: Bienestar socioemocional de equipos docentes y asistentes de la educación
LOCATION:
DESCRIPTION:Debatiremos sobre la importancia de la educación afectiva y sexual como elemento clave para fomentar la convivencia  escolar.
URL:https://sistemacreo.com/evento/webinar-como-abordar-valores-en-el-aula-2/
END:VEVENT
END:VCALENDAR
